BEGIN:VCALENDAR
VERSION:2.0
PRODID:-//wp-events-plugin.com//7.2.3.1//EN
TZID:America/New_York
X-WR-TIMEZONE:America/New_York
BEGIN:VEVENT
UID:75@youngarts.org
DTSTART;TZID=America/New_York;VALUE=DATE:20221007
DTEND;TZID=America/New_York;VALUE=DATE:20221211
DTSTAMP:20230331T185006Z
URL:https://youngarts.org/calendar/sunshine-featuring-works-by-mark-fleuri
 dor/
SUMMARY:Sunshine featuring works by Mark Fleuridor
DESCRIPTION:Inspired by ancestral lineage and the subtropics\, Miami native
  Mark Fleuridor (2015 Visual Arts & U.S. Presidential Scholar in the Arts)
  creates layered reconstructions of family\, friends\, home spaces and tro
 pical plants to arrive at abstracted environments that investigate the und
 erlying theme: the cycle of life. 
ATTACH;FMTTYPE=image/jpeg:https://youngarts.org/wp-content/uploads/2022/08
 /2022_Fall_Exhibition_Calendar.jpg
CATEGORIES:Public
LOCATION:YoungArts Gallery\, 2100 Biscayne Boulevard\, Miami\, FL\, 33137\,
  United States
X-APPLE-STRUCTURED-LOCATION;VALUE=URI;X-ADDRESS=2100 Biscayne Boulevard\, M
 iami\, FL\, 33137\, United States;X-APPLE-RADIUS=100;X-TITLE=YoungArts Gal
 lery:geo:0,0
END:VEVENT
BEGIN:VTIMEZONE
TZID:America/New_York
X-LIC-LOCATION:America/New_York
BEGIN:DAYLIGHT
DTSTART:20220313T030000
TZOFFSETFROM:-0500
TZOFFSETTO:-0400
TZNAME:EDT
END:DAYLIGHT
BEGIN:STANDARD
DTSTART:20221106T010000
TZOFFSETFROM:-0400
TZOFFSETTO:-0500
TZNAME:EST
END:STANDARD
END:VTIMEZONE
END:VCALENDAR